Workbook
Name acalto: #REF!
Name acalto: #REF!
Name acbajo: #REF!
Name acbajo: #REF!
Name accprincipio1: #REF!
Name accprincipio1: #REF!
Name accprincipio2: #REF!
Name accprincipio3: '[1]Estatus por Principio'!$D$56:$U$58
Name acmedio: #REF!
Name acoalto: #REF!
Name acobajo: #REF!
Name acomedio: #REF!
Name acprincipio1: #REF!
Name acprincipio2: #REF!
Name acprincipio3: #REF!
Name acprincipio4: #REF!
Name acprincipio5: #REF!
Name actividadesdecontrol: #REF!
Name administraciónderiesgos: #REF!
Name ambientedecontrol: #REF!
Name aralto: #REF!
Name arbajo: #REF!
Name armedio: #REF!
Name armedio: #REF!
Name arprincipio1: #REF!
Name arprincipio1: #REF!
Name arprincipio2: #REF!
Name arprincipio2: #REF!
Name arprincipio3: #REF!
Name caso1: #REF!
Name Hidden_14: [2]Hidden_1!$A$1:$A$11
Name Hidden_212: [2]Hidden_2!$A$1:$A$3
Name Hidden_313: [2]Hidden_3!$A$1:$A$2
Name Hidden_415: [2]Hidden_4!$A$1:$A$2
Name icalto: #REF!
Name icalto: #REF!
Name icbajo: #REF!
Name icbajo: #REF!
Name icmedio: #REF!
Name icmedio: #REF!
Name icprincipio1: #REF!
Name icprincipio2: #REF!
Name icprincipio3: #REF!
Name icprincipio4: #REF!
Name informaciónycomunicación: #REF!
Name Principio1: #REF!
Name Principio2: #REF!
Name prueba1: #REF!
Name Puntaje: #REF!
Name salto: #REF!
Name sbajo: #REF!
Name smedio: #REF!
Name sprincipio1: #REF!
Name sprincipio2: #REF!
Name supervisión: #REF!
Name tabla1: #REF!
Name tabla10: #REF!
Name tabla11: #REF!
Name tabla12: #REF!
Name tabla13: #REF!

Sheet 1. ANTICIPADO
BJ1: Analista Administrativo | BK1: 7000 - 5130
AZ2: 2025 | BA2: Rectoría | BC2: XI | BD2: Analista Administrativo | BE2: 700 - 5130 | BF2: Rector | BJ2: Asistente | BK2: 7000 - 5130
AZ3: 2026 | BA3: Secretaría | BC3: XII | BD3: Asistente | BE3: 700 - 5130 | BF3: Secretario/a | BJ3: Chofer | BK3: 7000 - 5130
I4: Dirección de Innovación | AZ4: 2027 | BA4: Dirección de área | BC4: XII | BD4: Chofer | BE4: 700 - 5130 | BF4: Director/a de área | BJ4: Coordinación | BK4: 7000 - 5130
AZ5: 2028 | BA5: Subdirección | BC5: IX | BD5: Coordinación | BE5: 700 - 5130 | BF5: Subdirector/a | BJ5: Coordinación de carrera | BK5: 7000 - 5130
AX6: Enero-Marzo | BA6: Jefatura de Departamento | BC6: Jefatura de Departamento | BD6: Coordinación de carrera | BE6: 700 - 5130 | BF6: Jefe/a de Departamento | BJ6: Dirección de área | BK6: 300
AX7: Abril-Junio | BA7: Coordinación de carrera | BC7: Subjefatura | BD7: Dirección de área | BE7: 300 | BF7: Coordinador/a de carrera | BJ7: Enfermero/a | BK7: 7000 - 5130
AX8: Julio-Septiembre | BA8: Docente | BC8: VIII | BD8: Docente | BE8: 700 - 5130 | BF8: Docente / Profesor/a | BJ8: Docente | BK8: 7000 - 5130
I9: UNIVERSIDAD TECNOLÓGICA DE CANCÚN | AX9: Octubre-Diciembre | BA9: Coordinación | BC9: XI | BD9: Enfermero/a | BE9: 700 - 5130 | BF9: Coordinador/a
BA10: Ingeniería en Sistemas | BC10: IX | BD10: Ingeniería en Sistemas | BE10: 700 - 5130 | BF10: Ingeniero/a en Sistemas | BJ10: Ingeniería en Sistemas | BK10: 7000 - 5130
AJ11: Oficio de Comisión No. | AK11: UTC/XXX/123/2026 | BA11: Jefatura de Oficina | BC11: VI | BD11: Jefatura de Departamento | BE11: 500 al 5130 | BF11: Jefe/a de Oficina | BJ11: Jefatura de Departamento | BK11: 500 al 5130
AJ12: Número de SUII | AK12: XXX/XXX/123/2026 | AX12: Confianza | BA12: Técnico/a | BC12: X | BD12: Jefatura de Oficina | BE12: 700 - 5130 | BF12: Técnico/a | BJ12: Jefatura de Oficina | BK12: 7000 - 5130
AX13: Servicios Profesionales | BA13: Analista Administrativo | BC13: II | BD13: Rectoría | BE13: 100 | BF13: Analista Administrativo/a | BJ13: Rectoría | BK13: 100
J14: ORDEN DE MINISTRACIÓN DE VIÁTICOS Y HOSPEDAJE (ANTICIPADO) | BA14: Enfermero/a | BC14: III | BD14: Secretaría | BE14: 300 | BF14: Enfermero/a | BJ14: Secretaría | BK14: 300
BA15: Secretaria/o de Dirección | BC15: XII | BD15: Secretaria/a de Departamento | BE15: 700 - 5130 | BF15: Secretario/a de Dirección | BJ15: Secretaria/a de Departamento | BK15: 7000 - 5130
B16: Ejercicio | H16: Tipo de Plaza y número de empleado | I16: Trimestre | N16: Tipo de Plaza y número de empleado | Y16: Clave o nivel del puesto | AE16: Denominación del cargo | AQ16: Área de adscripción | BA16: Chofer | BC16: XI | BD16: Secretaria/o de Dirección | BE16: 700 - 5130 | BF16: Chofer | BJ16: Secretaria/o de Dirección | BK16: 7000 - 5130
B17: 2026 | H17: Abril-Junio | N17: Confianza | Y17: =LOOKUP(AE17,BD2:BD19,BE2:BE19) -> 700 - 5130 | AE17: Coordinación | AQ17: =LOOKUP(I4,BI20:BI32,BJ20:BJ32) -> Dirección de Innovación | BA17: Asistente | BC17: V | BD17: Subdirección | BE17: 300 | BF17: Asistente | BJ17: Subdirección | BK17: 300
N18: XXXX | BA18: Secretaria/a de Departamento | BC18: VII | BD18: Subjefatura | BE18: 700 - 5130 | BF18: Secretario/a de Departamento | BJ18: Subjefatura | BK18: 7000 - 5130
BC19: XI | BD19: Técnico/a | BE19: 700 - 5130 | BJ19: Técnico/a | BK19: 7000 - 5130
B20: Nombre completo la persona comisionada | AH20: Tipo de viaje (Nacional/Internacional) | BI20: DIRECCIÓN DE ADMINISTRACIÓN Y FINANZAS | BJ20: Dirección de Administración y Finanzas
B21: Nombre(s) | M21: Primer apellido | W21: Segundo Apellido | BA21: Nacional | BF21: Yaneth Faisal Padrón | BG21: Encargada de la Dirección de Administración y Finanzas | BI21: DIRECCIÓN DE DIVISIÓN DE GASTRONOMÍA | BJ21: Dirección de División de Gastronomía
B22: abg | M22: abg | W22: adfg | AH22: Nacional | BA22: Internacional | BF22: Manuel Enrique Rivero Rivero | BG22: Encargado de la División de Gastronomía | BI22: DIRECCIÓN DE DIVISIÓN DE INGENIERÍA Y TECNOLOGÍA | BJ22: Dirección de División de Ingeniería y Tecnología
B23: Banco | M23: XXX | BC23: Terrestre | BF23: Rocío Arceo Díaz | BG23: Directora de Ingeniería y Tecnología | BI23: DIRECCIÓN DE DIVISIÓN ECONÓMICO-ADMINISTRATIVA | BJ23: Dirección de División Económico-Administrativa
B24: N° CUENTA/CLABE interbancaria | M24: XXX | BC24: Aereo | BF24: Karla Monica Flores García | BG24: Encargada de la División Económico Administrativa | BI24: DIRECCIÓN DE DIVISIÓN TURISMO | BJ24: Dirección de División Turismo
B25: R.F.C.: | E25: XXX | BA25: Sí | BC25: Maritimo | BF25: Mariana Recio López | BG25: Directora de División Turismo | BI25: DIRECCIÓN DE EXTENSIÓN UNIVERSITARIA Y SERVICIOS ESTUDIANTILES | BJ25: Dirección de Extensión Universitaria y Servicios Estudiantiles
BA26: No | BC26: Terrestre - Aereo | BF26: Gerardo Porfirio Padilla Morales | BG26: Director de la Dirección de Extensión Universitaria y Servicios Estudiantiles | BI26: DIRECCIÓN DE INNOVACIÓN | BJ26: Dirección de Innovación
B27: Lugar de adscripción de la personas comisionada | M27: Lugar del encargo o comisión | Z27: Motivo del encargo o comisión | BC27: Terrestre - Maritimo | BF27: Liliana Calderón Guzmán | BG27: Encargada de la Dirección de Innovación | BI27: DIRECCIÓN DE PLANEACIÓN, PROGRAMACIÓN, EVALUACIÓN Y PRESUPUESTO | BJ27: Dirección de Planeación, Programación, Evaluación y Presupuesto
B28: País | E28: Estado | I28: Ciudad | M28: País | Q28: Estado | U28: Ciudad | Z28: comision | BC28: Aereo - Maritimo | BF28: Salvador Carrera Bautista | BG28: Encargado de la Dirección de Planeación, Programación,Evaluación y Presupuesto | BI28: DIRECCIÓN JURÍDICA , UNIDAD DE TRANSPARENCIA | BJ28: Dirección Jurídica, Unidad De transparencia
B29: México | E29: Quintana Roo | I29: Cancún | M29: MEXICO | Q29: QUINTANA ROO | U29: CHETUMAL | BC29: Terrestre - Aereo - Maritimo | BF29: David Armando Argüelles González | BG29: Director Jurídico, Unidad de Transparencia | BI29: ÓRGANO INTERNO DE CONTROL | BJ29: Órgano Interno de Control
BF30: Ramón Conrado Moguel | BG30: Titular del Órgano Interno de Control. | BI30: RECTORÍA | BJ30: Rectoría
BF31: Enrique Arturo Baños Abedun de Lima | BG31: Rector | BI31: SECRETARÍA ACADÉMICA | BJ31: Secretaría Académica
BF32: Zac Mukuy Aracely Vargas Ramírez | BG32: Encargada de la Secretaría Académica | BI32: SECRETARÍA DE VINCULACIÓN | BJ32: Secretaría de Vinculación
B33: Medio de transporte | L33: Hospedaje | X33: Importe ejercido con motivo del encargo o comisión | Y33: Periodo del encargo o comisión | BF33: Elena Isabel Múgica Silva | BG33: Secretaria de Vinculación
B34: Terrestre | L34: No | Y34: Salida (día/mes/año) | AK34: Regreso (día/mes/año)
Y35: 46197 | AK35: 46198
BA36: TIPO DE DIVISA
B38: Clave de partida viaticos | S38: 37501
B39: Fecha/Tipo de Divisa/Tipo de Cambio | S39: Número de días de la comisión | AH39: Importe asignado por concepto de gastos de viáticos
B40: 26-06-2026 / USD / 20.00 | S40: 2 | AH40: 1000
B42: Clave de partida hospedaje | S42: 37502
...

Sheet 2. DEVENGADO
BJ1: Analista Administrativo | BK1: 700 - 5130
BJ2: Asistente | BK2: 700 - 5130
AZ3: 2023 | BA3: Rectoría | BC3: Rectoría | BJ3: Chofer | BK3: 700 - 5130
I4: ='1. ANTICIPADO'!I4 -> Dirección de Innovación | AZ4: 2024 | BA4: Secretaría | BC4: Secretaría | BJ4: Coordinación | BK4: 700 - 5130
AZ5: 2025 | BA5: Dirección de área | BC5: Dirección de área | BJ5: Coordinación de carrera | BK5: 700 - 5130
BA6: Subdirección | BC6: Subdirección | BJ6: Dirección de área | BK6: 300
AX7: Enero-Marzo | BA7: Jefatura de Departamento | BC7: Jefatura de Departamento | BJ7: Docente | BK7: 700 - 5130
I8: UNIVERSIDAD TECNOLÓGICA DE CANCÚN | AX8: Abril-Junio | BA8: Coordinación de carrera | BC8: Coordinación de carrera | BJ8: Enfermero/a | BK8: 700 - 5130
AX9: Julio-Septiembre | BA9: Enfermero/a | BC9: Enfermero/a | BJ9: Jefatura de Departamento | BK9: 500 al 5130
AJ10: Oficio de Comisión No. | AK10: ='1. ANTICIPADO'!AK11 -> UTC/XXX/123/2026 | AX10: Octubre-Diciembre | BA10: Coordinación | BC10: Coordinación | BJ10: Jefatura de Oficina | BK10: 700 - 5130
AJ11: Número de SUII | AK11: ='1. ANTICIPADO'!AK12 -> XXX/XXX/123/2026 | BA11: Ingeniería en Sistemas | BC11: Ingeniería en Sistemas | BJ11: Rectoría | BK11: 100
BA12: Jefatura de Oficina | BC12: Jefatura de Oficina | BJ12: Secretaría | BK12: 300
I13: ORDEN DE MINISTRACIÓN DE VIÁTICOS (DEVENGADO) | AX13: Confianza | BA13: Técnico/a | BC13: Técnico/a | BJ13: Secretaria/a de Departamento | BK13: 700 - 5130
AX14: Servicios Profesionales | BA14: Analista Administrativo | BC14: Analista Administrativo | BJ14: Secretaria/o de Dirección | BK14: 700 - 5130
B15: Ejercicio | H15: Tipo de Plaza y número de empleado | Y15: Clave o nivel del puesto | AG15: Denominación del cargo | AN15: Área de adscripción | BA15: Docente | BC15: Docente | BJ15: Subdirección | BK15: 300
B16: ='1. ANTICIPADO'!B17 -> 2026 | H16: ='1. ANTICIPADO'!N17 -> Confianza | Y16: =LOOKUP(AG16,BJ1:BJ17,BK1:BK17) -> 700 - 5130 | AG16: ='1. ANTICIPADO'!AE17 -> Coordinación | AN16: =LOOKUP(I4,BI20:BI32,BJ19:BJ31) -> Dirección de Innovación | BA16: Secretaria/o de Dirección | BC16: Secretaria/o de Dirección | BJ16: Subjefatura | BK16: 700 - 5130
H17: ='1. ANTICIPADO'!N18 -> XXXX | BA17: Chofer | BC17: Chofer | BJ17: Técnico/a | BK17: 700 - 5130
B18: Nombre completo la persona comisionada | AH18: Tipo de viaje (Nacional/Internacional) | BA18: Asistente | BC18: Asistente
B19: Nombre(s) | P19: Primer apellido | Z19: Segundo Apellido | BA19: Secretaria/a de Departamento | BC19: Secretaria/a de Departamento | BJ19: Dirección de Administración y Finanzas
B20: =+'1. ANTICIPADO'!B22 -> abg | P20: =+'1. ANTICIPADO'!M22 -> abg | Z20: =+'1. ANTICIPADO'!W22 -> adfg | AH20: =+'1. ANTICIPADO'!AH22 -> Nacional | BF20: Yaneth Faisal Padrón | BG20: Encargada de la Dirección de Administración y Finanzas | BI20: DIRECCIÓN DE ADMINISTRACIÓN Y FINANZAS | BJ20: Dirección de División de Gastronomía
B21: Banco | P21: =+'1. ANTICIPADO'!M23 -> XXX | BF21: Manuel Enrique Rivero Rivero | BG21: Encargado de la División de Gastronomía | BI21: DIRECCIÓN DE DIVISIÓN DE GASTRONOMÍA | BJ21: Dirección de División de Ingeniería y Tecnología
B22: CLABE interbancaria | P22: =+'1. ANTICIPADO'!M24 -> XXX | BA22: Nacional | BF22: Rocío Arceo Díaz | BG22: Directora de Ingeniería y Tecnología | BI22: DIRECCIÓN DE DIVISIÓN DE INGENIERÍA Y TECNOLOGÍA | BJ22: Dirección de División Económico-Administrativa
B23: R.F.C.: | E23: =+'1. ANTICIPADO'!E25 -> XXX | BA23: Internacional | BF23: Héctor Luis Soto Soto | BG23: Director de la División Económico Administrativa | BI23: DIRECCIÓN DE DIVISIÓN ECONÓMICO-ADMINISTRATIVA | BJ23: Dirección de División Turismo
BF24: Mariana Recio López | BG24: Directora de División Turismo | BI24: DIRECCIÓN DE DIVISIÓN TURISMO | BJ24: Dirección de Extensión Universitaria y Servicios Estudiantiles
B25: Lugar de adscripción del comisionado | P25: Lugar del encargo o comisión | AF25: Motivo del encargo o comisión | BC25: Terrestre | BF25: Gerardo Porfirio Padilla Morales | BG25: Encargado de la Dirección de Extensión Universitaria y Servicios Estudiantiles | BI25: DIRECCIÓN DE EXTENSIÓN UNIVERSITARIA Y SERVICIOS ESTUDIANTILES | BJ25: Dirección de Innovación
B26: País | F26: Estado | K26: Ciudad | P26: País | T26: Estado | AA26: Ciudad | BA26: Sí | BC26: Aereo | BF26: Víctor Manuel Alvarado Gutiérrez | BG26: Encargado de la Dirección de Innovación | BI26: DIRECCIÓN DE INNOVACIÓN | BJ26: Dirección de Planeación, Programación, Evaluación y Unidad de Transparencia, Acceso a la Información Pública y Protección de Datos Personales
B27: México | F27: Quintana Roo | K27: Cancún | P27: =+'1. ANTICIPADO'!M29 -> MEXICO | T27: =+'1. ANTICIPADO'!Q29 -> QUINTANA ROO | AA27: =+'1. ANTICIPADO'!U29 -> CHETUMAL | AF27: =+'1. ANTICIPADO'!Z28 -> comision | BA27: No | BC27: Maritimo | BF27: Salvador Carrera Bautista | BG27: Encargado de la Dirección de Planeación, Programación, Transparencia, Acceso a la Información Pública y Protección de Datos Personales | BI27: DIRECCIÓN DE PLANEACIÓN, PROGRAMACIÓN, EVALUACIÓN Y UNIDAD DE TRANSPARENCIA, ACCESO A LA INFORMACIÓN PÚBLICA Y PROTECCIÓN DE DATOS PERSONALES | BJ27: Dirección Jurídica
BC28: Terrestre - Aereo | BF28: David Armando Argüelles González | BG28: Director Jurídico | BI28: DIRECCIÓN JURÍDICA | BJ28: Órgano Interno de Control
B29: Medio de transporte | K29: Hospedaje | X29: Importe ejercido con motivo del encargo o comisión | Y29: Periodo del encargo o comisión | BC29: Terrestre - Maritimo | BF29: Ramón Conrado Moguel | BG29: Titular del Órgano Interno de Control. | BI29: ÓRGANO INTERNO DE CONTROL | BJ29: Rectoría
B30: ='1. ANTICIPADO'!B34 -> Terrestre | K30: ='1. ANTICIPADO'!L34 -> No | Y30: Salida (día/mes/año) | AK30: Regreso (día/mes/año) | BC30: Aereo - Maritimo | BF30: Enrique Arturo Baños Abedun de Lima | BG30: Rector | BI30: RECTORÍA | BJ30: Secretaría Académica
Y31: ='1. ANTICIPADO'!Y35 -> 46197 | AK31: ='1. ANTICIPADO'!AK35 -> 46198 | BC31: Terrestre - Aereo - Maritimo | BF31: Zac Mukuy Aracely Vargas Ramírez | BG31: Encargada de la Secretaría Académica | BI31: SECRETARÍA ACADÉMICA | BJ31: Secretaría de Vinculación
BF32: Elena Isabel Múgica Silva | BG32: Secretaria de Vinculación | BI32: SECRETARÍA DE VINCULACIÓN
B34: Clave presupuestal viatico | K34: =+'1. ANTICIPADO'!S38 -> 37501
B35: ='1. ANTICIPADO'!B43 -> Fecha/Tipo de Divisa/Tipo de Cambio | K35: Número de días de la comisión | R35: Importe por concepto de gastos de viáticos según tabulador | AD35: Importe ejercido con motivo del encargo o comisión | AM35: Importe de gastos no erogados derivados del encargo o comisión
B36: ='1. ANTICIPADO'!B44 -> 26-06-2026 / MXN / 1.00 | K36: ='1. ANTICIPADO'!S40 -> 2 | R36: =+'1. ANTICIPADO'!AH40 -> 1000 | AD36: ='3. RELACION DE FACTURAS'!K33 -> 790 | AM36: =IF(AD36="ERROR","ERROR",R36-AD36) -> 210
B38: Respecto a los informes sobre el encargo o comisión
B39: Fecha de entrega del informe de la comisión o encargo encomendado (día, mes, año) | U39: Hipervínculo al informe de la comisión o encargo encomendado
B40: 46199
B42: EL COMISIONADO /A | N42: AUTORIZACIÓN JEFE /A INMEDIATO DEL COMISIONADO /A | Z42: DIRECTOR /A ADMINISTRATIVO /A | AL42: TITULAR
B47: =CONCATENATE(B20," ",P20," ",Z20) -> abg abg adfg | N47: ='1. ANTICIPADO'!N52 -> XXXXX | Z47: =BF20 -> Yaneth Faisal Padrón | AL47: ='1. ANTICIPADO'!AL52 -> Liliana Calderón Guzmán
...

Sheet 3. RELACION DE FACTURAS
F2: UNIVERSIDAD TECNOLOGICA DE CANCUN
F3: Relación de Facturas para comprobacion
B5: NOMBRE DEL COMISIONADO | E5: =CONCATENATE('1. ANTICIPADO'!B22," ",'1. ANTICIPADO'!M22," ",'1. ANTICIPADO'!W22) -> abg abg adfg | J5: CARGO | K5: ='1. ANTICIPADO'!AE17 -> Coordinación
B7: FUENTE FINANC | D7: INGRESOS PROPIOS | F7: AREA DE ADSCRIPCION | G7: ='1. ANTICIPADO'!AQ17 -> Dirección de Innovación | J7: IMPORTE TOTAL OTORGADO | K7: ='1. ANTICIPADO'!AH40 -> 1000
B8: CAPITULO | D8: 3000 | F8: OFICIO/MEMORANDUM | G8: ='1. ANTICIPADO'!AK11 -> UTC/XXX/123/2026 | J8: IMPORTE TOTAL EJERCIDO | K8: =K33 -> 790
B9: PARTIDA | D9: 37501 | F9: SUII | G9: ='1. ANTICIPADO'!AK12 -> XXX/XXX/123/2026 | J9: IMPORTE A DEVOLVER | K9: =IF(K8>K7,"ERROR",K7-K8) -> 210
B11: id | C11: RFC | D11: FOLIO FISCAL/UUID/# INVOICE | G11: FECHA DE EMISION | H11: PROVEEDOR | J11: CONCEPTO | K11: IMPORTE | L11: OBSERVACIONES (RETENCIONES,TIPO DE DIVISA, ETC)
B12: =IF(COUNTA(C12:K12)>0,ROW()-11," ") -> 1 | C12: XEXX010101000 | D12: 123456-B26 | G12: 46198 | H12: REPOSTERIA FINA | J12: CONSUMO DE ALIMENTOS | K12: 70 | L12: 25-06-2026/EUR/20/$3.5 (EJEMPLO)
B13: =IF(COUNTA(C13:K13)>0,ROW()-11," ") -> 2 | C13: MTL1010278B1 | D13: xxxxxxxx-xxxx-xxxx-xxxx-xxxxxxxxxx01 | G13: 46198 | H13: MARISQUERIA EL TACO LOCO FUNDADA EN 1979 | J13: CONSUMO DE ALIMENTOS | K13: 80
B14: =IF(COUNTA(C14:K14)>0,ROW()-11," ") -> 3 | C14: CSI020226MV4 | D14: xxxxxxxx-xxxx-xxxx-xxxx-xxxxxxxxxxx2 | G14: 46198 | H14: CAFÉ SIRENA | J14: CONSUMO DE ALIMENTOS | K14: 90
B15: =IF(COUNTA(C15:K15)>0,ROW()-11," ") -> 4 | C15: OPP010927SA5 | D15: xxxxxxxx-xxxx-xxxx-xxxx-xxxxxxxxxxx3 | G15: 46198 | H15: OPERADORA Y PROCESADORA DE PRODUCTOS DE PANIFICACIÓN | J15: CONSUMO DE ALIMENTOS | K15: 84
B16: =IF(COUNTA(C16:K16)>0,ROW()-11," ") -> 5 | C16: CSI020226MV4 | D16: xxxxxxxx-xxxx-xxxx-xxxx-xxxxxxxxxxx4 | G16: 46198 | H16: CAFÉ SIRENA | J16: CONSUMO DE ALIMENTOS | K16: 50
B17: =IF(COUNTA(C17:K17)>0,ROW()-11," ") -> 6 | C17: CSI020226MV4 | D17: xxxxxxxx-xxxx-xxxx-xxxx-xxxxxxxxxxx5 | G17: 46198 | H17: CAFÉ SIRENA | J17: CONSUMO DE ALIMENTOS | K17: 50
B18: =IF(COUNTA(C18:K18)>0,ROW()-11," ") -> 7 | C18: AADM790119UT9 | D18: xxxxxxxx-xxxx-xxxx-xxxx-xxxxxxxxxxx6 | G18: 46198 | H18: MANUEL ALBERTO ARMAS DUARTE | J18: CONSUMO DE ALIMENTOS | K18: 76 | L18: RET. $ 0.83
B19: =IF(COUNTA(C19:K19)>0,ROW()-11," ") -> 8 | C19: RAD161031RK1 | D19: xxxxxxxx-xxxx-xxxx-xxxx-xxxxxxxxxxx7 | G19: 46198 | H19: RESTAURANTES ADMX | J19: CONSUMO DE ALIMENTOS | K19: 50
B20: =IF(COUNTA(C20:K20)>0,ROW()-11," ") -> 9 | C20: CCO8605231N4 | D20: xxxxxxxx-xxxx-xxxx-xxxx-xxxxxxxxxxx8 | G20: 46198 | H20: CADENA COMERCIAL OXXO | J20: CONSUMO DE ALIMENTOS | K20: 50
B21: =IF(COUNTA(C21:K21)>0,ROW()-11," ") -> 10 | C21: SAKS600320949 | D21: xxxxxxxx-xxxx-xxxx-xxxx-xxxxxxxxxxx9 | G21: 46198 | H21: SAMIRA SARKIS KAMILOS | J21: CONSUMO DE ALIMENTOS | K21: 50
B22: =IF(COUNTA(C22:K22)>0,ROW()-11," ") -> 11 | C22: TPA131111PM4 | D22: xxxxxxxx-xxxx-xxxx-xxxx-xxxxxxxxxx10 | G22: 46198 | H22: TRADICIÓN EN PASTELERIAS, SA DE CV | J22: CONSUMO DE ALIMENTOS | K22: 50
B23: =IF(COUNTA(C23:K23)>0,ROW()-11," ") -> 12 | C23: SSF830912738 | D23: xxxxxxxx-xxxx-xxxx-xxxx-xxxxxxxxxx11 | G23: 46198 | H23: SUPER SAN FRANCISCO DE ASIS | J23: CONSUMO DE ALIMENTOS | K23: 50
B24: =IF(COUNTA(C24:K24)>0,ROW()-11," ") -> 13 | G24: 46198 | H24: NO COMPROBABLES | J24: CONSUMO DE ALIMENTOS/PAPELERIA | K24: 40 | L24: NO COMPROBABLES
B25: =IF(COUNTA(C25:K25)>0,ROW()-11," ")
B26: =IF(COUNTA(C26:K26)>0,ROW()-11," ")
B27: =IF(COUNTA(C27:K27)>0,ROW()-11," ")
B28: =IF(COUNTA(C28:K28)>0,ROW()-11," ")
B29: =IF(COUNTA(C29:K29)>0,ROW()-11," ")
B30: =IF(COUNTA(C30:K30)>0,ROW()-11," ")
B31: =IF(COUNTA(C31:K31)>0,ROW()-11," ")
J33: IMPORTE TOTAL EJERCIDO | K33: =IF(SUM(K12:K32)>K7,"ERROR",SUM(K12:K32)) -> 790
C34: NOTA: | D34: Renombrar y enviar el archivo excel "SUII-___-___-2026-Formato de Viaticos 2026" al correo de comprobaciones@utcancun.edu.mx
F39: ='1. ANTICIPADO'!B52 -> abg abg adfg
F40: ='1. ANTICIPADO'!B53 -> Coordinación

Sheet 4. NO COMPROBABLES
P17: Formato de Operaciones efectuadas No Comprobables por Concepto de Viáticos.
L20: ='2. DEVENGADO'!I4 -> Dirección de Innovación
W26: ='2. DEVENGADO'!K27 -> Cancún | AB26: , | AC26: ='2. DEVENGADO'!F27 -> Quintana Roo | AH26: , a los | AK26: 26 | AM26: día (s) del mes de | AU26: JUNIO | BB26: de | BC26: 2026
L30: =UPPER('2. DEVENGADO'!B47) -> ABG ABG ADFG
L31: ='2. DEVENGADO'!B48 -> Coordinación
M35: PRESENTE.
M39: Atendiendo a lo dispuesto en el artículo 36, tercer párrafo de los LINEAMIENTOS PARA EL EJERCICIO, CONTROL
M40: Y COMPROBACIÓN DEL GASTO PÚBLICO DESTINADO AL PAGO DE VIÁTICOS, PASAJES Y DEMÁS EROGACIONES
M41: RELACIONADAS CON LAS COMISIONES OFICIALES EFECTUADAS POR LAS PERSONAS SERVIDORAS PÚBLICAS DE
M42: LA ADMINISTRACIÓN PÚBLICA CENTRAL Y PARAESTATAL DEL PODER EJECUTIVO DEL GOBIERNO DEL ESTADO
M43: QUINTANA ROO, se expide el presente para efectos de acreditar las operaciones efectuadas no comprobables
M44: por concepto de viáticos por la cantidad de | AH44: =BA79 -> 50 | AM44: , | AN44: derivadas de la comisión que me fue
M45: encomendada, con motivo a:
M46: ='1. ANTICIPADO'!Z28 -> comision | BF46: ,
M47: que se llevó a cabo del | AB47: 24-25/06/2026 | AG47: , en | AI47: ='2. DEVENGADO'!AA27 -> CHETUMAL | AM47: , | AN47: ='2. DEVENGADO'!T27 -> QUINTANA ROO | AU47: , en los términos que se detallan
M48: a continuación.
U52: Oficio de Comisión No. | AE52: ='2. DEVENGADO'!AK10 -> UTC/XXX/123/2026
S54: Monto total otorgado | AL54: Monto equivalente al 20%
S56: ='2. DEVENGADO'!R36 -> 1000 | AL56: =S56*0.2 -> 200
N63: Desglose de operaciones efectuadas No Comprobables por Concepto de Viáticos
N65: FECHA | U65: CONCEPTO | BA65: IMPORTE
N66: 46198 | U66: TAXIS/COPIAS/ALIMENTOS | BA66: 50
U79: TOTAL DE GASTOS NO COMPROBABLES | BA79: =SUM(BA66:BE78) -> 50
M83: COMISIONADO / A | AO83: TITULAR DE LA UNIDAD ADMINISTRATIVA
L92: ='2. DEVENGADO'!B47 -> abg abg adfg | AN92: ='2. DEVENGADO'!AL47 -> Liliana Calderón Guzmán
L94: =L31 -> Coordinación | AN94: ='2. DEVENGADO'!AL48 -> Encargada de la Dirección de Innovación

Sheet 5. CONSTANCIA DESEMPEÑO
J7: ='1. ANTICIPADO'!I4 -> Dirección de Innovación
J12: UNIVERSIDAD TECNOLÓGICA DE CANCÚN
J15: CONSTANCIA DE DESEMPEÑO DE LABORES O COMISIONES TEMPORALES EN LUGARES DISTINTOS DE ADSCRIPCIÓN
AD18: NÚMERO DE OFICIO DE LA ORDEN DE MINISTRACIÓN DE VIÁTICOS Y PASAJES
AF21: ='1. ANTICIPADO'!AK11 -> UTC/XXX/123/2026
H25: POR EL FUNCIONARIO/A RESPONSABLE DE LA UNIDAD ADMINISTRATIVA ANTE LA CUAL SE DESARROLLA LA COMISIÓN
F28: HAGO CONSTAR QUE: | T28: =UPPER('1. ANTICIPADO'!B52) -> ABG ABG ADFG
Q30: LABORÓ EN LA CIUDAD DE: | T30: =CONCATENATE('1. ANTICIPADO'!U29,", ",'1. ANTICIPADO'!Q29) -> CHETUMAL, QUINTANA ROO
J32: LOS DÍAS:
O41: NOMBRE Y FIRMA | AP41: SELLO
H45: POR LA DEPENDENCIA QUE GENERÓ LA COMISIÓN
H47: EL/LA COMISIONADA CUMPLIÓ CON LOS TRABAJOS ENCOMENDADOS EN TIEMPO Y FORMA CON BASE EN LOS REQUERIMIENTOS ESTABLECIDOS
N51: TITULAR DE LA UNIDAD RESPONSABLE
N59: ='1. ANTICIPADO'!$AL$52 -> Liliana Calderón Guzmán | AP59: SELLO

Sheet 6.CHECK-LIST DEV
B5: UNIVERSIDAD TECNOLÓGICA DE CANCÚN
B6: CHECK LIST | L6: INSTRUCCIONES DE LLENADO
B7: VIÁTICO DEVENGADO | M7: DATOS QUE DEBERÁN DE SER LLENADOS POR EL COMISIONADO
B9: NOMBRE DEL COMISIONADO | F9: Oficio o Memorándum | I9: ='1. ANTICIPADO'!AK11 -> UTC/XXX/123/2026
B10: =CONCATENATE('1. ANTICIPADO'!B22," ",'1. ANTICIPADO'!M22," ",'1. ANTICIPADO'!W22) -> abg abg adfg | F10: SUII | I10: ='1. ANTICIPADO'!AK12 -> XXX/XXX/123/2026
F11: Importe total otorgado | I11: ='1. ANTICIPADO'!AH40 -> 1000
B13: RELACIÓN DE DOCUMENTOS
B14: CHECK | C14: DOCUMENTOS REQUERIDOS | E14: N°. DE HOJAS | F14: OBSERVACIONES
B15: [ ] | C15: 1 | D15: Orden de ministración de viáticos DEVENGADO (Original firmado). | E15: 1
B16: [ ] | C16: 2 | D16: ✉️ Constancia de desempeño ORIGINAL (requisitada, firmada y sellada). | E16: 1
B17: [ ] | C17: 3 | D17: ✉️ Formato de Operaciones efectuadas NO COMPROBABLES por concepto de viáticos (Original sellado). | E17: 1
B18: [ ] | C18: 4 | D18: ✉️ Relación de Facturas (PDF firmado y archivo Excel). | E18: 1
B19: [ ] | C19: 5 | D19: ✉️ Facturas (PDF y XML). | E19: 12
B20: [ ] | C20: 6 | D20: Informe libre de comisiones (Impreso y firmado). | E20: 1
B21: [ ] | C21: 7 | D21: ✉️ Reporte de comisiones abiertas (Impreso y firmado). | E21: 1
B22: [ ] | C22: 8 | D22: Anexar constancias o diplomas, fotografías como evidencia al acudir a un curso, talller, etc. | E22: 1
B23: [ ] | C23: 9 | D23: Formato de solicitud de adquisión (SUII). | E23: 1
B24: [ ] | C24: 10 | D24: Memorándun u oficio de comisión de trabajo. | E24: 1
B25: EN CASO DE APLICAR, ANEXAR LO SIGUIENTE:
B26: [ ] | C26: 11 | D26: Recibo de reembolso de gastos no devengados. | E26: 0
B27: [ ] | C27: 12 | D27: SUII modificado en caso de realizar reembolso de gastos. | E27: 0
B28: [ ] | C28: 13 | D28: Complemento de SUII (solo si las facturas tienen retención de impuestos). | E28: 0
B29: [ ] | C29: 14 | D29: Transferencia presupuestal de recursos. | E29: 1
D30: TOTAL DE HOJAS | E30: =SUM(E15+E16+E17+E18+E19+E20+E21+E22+E23+E24+E26+E27+E28+E29) -> 22
B32: DISPOSICIONES DE ENTREGA | F32: FECHA Y FIRMA DE QUIEN RECIBE
B33: CHECK | C33: ACCION REQUERIDA | F33: ________/________/2026
B34: [ ] | C34: 15 | D34: Enviar el ARCHIVO "SUII-__-__-2026-Formato de Viáticos 2026" y la documentación marcada con ✉️ al Correo:comprobaciones@utcancun.edu.mx
B35: [ ] | C35: 16 | D35: Cargar datos de la comision en plataforma de Comisiones Abiertas (Transparencia)
B37: DATOS DEL RESPONSABLE DEL TRÁMITE
B38: NOMBRE: | D38: SANDRA
B39: PUESTO: | D39: SECRETARIA
B40: CEL: | F40: MARCAR CON X | H40: CORRECCIÓN | I40: TRÁMITE
B41: NO. EXT:

Sheet Instructivo 3.Relacion Fact
F2: UNIVERSIDAD TECNOLOGICA DE CANCUN
F3: Relación de Facturas para comprobacion
B5: NOMBRE DEL COMISIONADO | E5: =CONCATENATE('1. ANTICIPADO'!B20," ",'1. ANTICIPADO'!M20," ",'1. ANTICIPADO'!W20) -> Nombre completo la persona comisionada | J5: CARGO | K5: coordinador
B7: FUENTE FINANC | D7: FEDERAL | F7: AREA DE ADSCRIPCION | G7: CONTABILIDAD Y FINANZAS | J7: IMPORTE TOTAL OTORGADO | K7: 3000
B8: CAPITULO | D8: 3000 | F8: OFICIO/MEMORANDUM | G8: ='1. ANTICIPADO'!AK9 -> 0 | J8: IMPORTE TOTAL EJERCIDO | K8: =K33 -> 2900
B9: PARTIDA | D9: 37501 | F9: SUII | G9: ='1. ANTICIPADO'!AK10 -> 0 | J9: IMPORTE A DEVOLVER | K9: =K7-K8 -> 100 | N9: Importe a reembolsar en caja
B11: id | C11: RFC | D11: FOLIO FISCAL | G11: FECHA DE EMISION | H11: PROVEEDOR | J11: CONCEPTO | K11: IMPORTE | L11: OBSERVACIONES | N11: En caso de ser INVOICE, indicar: fecha/tipo de divisa/tipo de cambio/importe del invoice
B12: =IF(COUNTA(C12:K12)>0,ROW()-11," ") -> 1 | C12: XEXX010101000 | D12: 1234-5698 | G12: 46198 | H12: REPOSTERIA FINA | J12: CONSUMO DE ALIMENTOS | K12: 1400 | L12: 31-01-2026/EUR/20/3.5(EJEMPLO)
B13: =IF(COUNTA(C13:K13)>0,ROW()-11," ") -> 2 | C13: MTL1010278B1 | D13: xxxxxxxx-xxxx-xxxx-xxxx-xxxxxxxxxxxx | G13: 46198 | H13: MARISQUERIA EL TACO LOCO FUNDADA EN 1979 | J13: CONSUMO DE ALIMENTOS | K13: 233 | N13: No considerar Propina o Servicio dentro del total de consumo (Factura).
B14: =IF(COUNTA(C14:K14)>0,ROW()-11," ") -> 3 | C14: CSI020226MV4 | D14: xxxxxxxx-xxxx-xxxx-xxxx-xxxxxxxxxxxx | G14: 46198 | H14: CAFÉ SIRENA | J14: CONSUMO DE ALIMENTOS | K14: 114
B15: =IF(COUNTA(C15:K15)>0,ROW()-11," ") -> 4 | C15: OPP010927SA5 | D15: xxxxxxxx-xxxx-xxxx-xxxx-xxxxxxxxxxxx | G15: 46198 | H15: OPERADORA Y PROCESADORA DE PRODUCTOS DE PANIFICACIÓN | J15: CONSUMO DE ALIMENTOS | K15: 329
B16: =IF(COUNTA(C16:K16)>0,ROW()-11," ") -> 5 | C16: CSI020226MV4 | D16: xxxxxxxx-xxxx-xxxx-xxxx-xxxxxxxxxxxx | G16: 46198 | H16: CAFÉ SIRENA | J16: CONSUMO DE ALIMENTOS | K16: 99
B17: =IF(COUNTA(C17:K17)>0,ROW()-11," ") -> 6 | C17: CSI020226MV4 | D17: xxxxxxxx-xxxx-xxxx-xxxx-xxxxxxxxxxxx | G17: 46198 | H17: CAFÉ SIRENA | J17: CONSUMO DE ALIMENTOS | K17: 81.75
B18: =IF(COUNTA(C18:K18)>0,ROW()-11," ") -> 7 | C18: AADM790119UT9 | D18: xxxxxxxx-xxxx-xxxx-xxxx-xxxxxxxxxxxx | G18: 46198 | H18: MANUEL ALBERTO ARMAS DUARTE | J18: CONSUMO DE ALIMENTOS | K18: 76 | L18: RET. $ 0.83 | N18: Filas destinadas a la captura de información de retención de impuestos de las facturas (solo en caso de aplicar) y/o comentarios.
B19: =IF(COUNTA(C19:K19)>0,ROW()-11," ") -> 8 | C19: RAD161031RK1 | D19: xxxxxxxx-xxxx-xxxx-xxxx-xxxxxxxxxxxx | G19: 46198 | H19: RESTAURANTES ADMX | J19: CONSUMO DE ALIMENTOS | K19: 198
B20: =IF(COUNTA(C20:K20)>0,ROW()-11," ") -> 9 | C20: CCO8605231N4 | D20: xxxxxxxx-xxxx-xxxx-xxxx-xxxxxxxxxxxx | G20: 46198 | H20: CADENA COMERCIAL OXXO | J20: CONSUMO DE ALIMENTOS | K20: 20
B21: =IF(COUNTA(C21:K21)>0,ROW()-11," ") -> 10 | C21: SAKS600320949 | D21: xxxxxxxx-xxxx-xxxx-xxxx-xxxxxxxxxxxx | G21: 46198 | H21: SAMIRA SARKIS KAMILOS | J21: CONSUMO DE ALIMENTOS | K21: 45
B22: =IF(COUNTA(C22:K22)>0,ROW()-11," ") -> 11 | C22: TPA131111PM4 | D22: xxxxxxxx-xxxx-xxxx-xxxx-xxxxxxxxxxxx | G22: 46198 | H22: TRADICIÓN EN PASTELERIAS, SA DE CV | J22: CONSUMO DE ALIMENTOS | K22: 175
B23: =IF(COUNTA(C23:K23)>0,ROW()-11," ") -> 12 | C23: SSF830912738 | D23: xxxxxxxx-xxxx-xxxx-xxxx-xxxxxxxxxxxx | G23: 46198 | H23: SUPER SAN FRANCISCO DE ASIS | J23: CONSUMO DE ALIMENTOS | K23: 41 | N23: Importante considerar y agregar monto de NO COMPROBABLES (solo en caso de aplicar)
B24: =IF(COUNTA(C24:K24)>0,ROW()-11," ") -> 13 | G24: 46198 | H24: NO COMPROBABLES | J24: CONSUMO DE ALIMENTOS/PAPELERIA | K24: 88.25 | L24: NO COMPROBABLES
B25: =IF(COUNTA(C25:K25)>0,ROW()-11," ")
B26: =IF(COUNTA(C26:K26)>0,ROW()-11," ")
B27: =IF(COUNTA(C27:K27)>0,ROW()-11," ")
B28: =IF(COUNTA(C28:K28)>0,ROW()-11," ")
B29: =IF(COUNTA(C29:K29)>0,ROW()-11," ")
B30: =IF(COUNTA(C30:K30)>0,ROW()-11," ")
B31: =IF(COUNTA(C31:K31)>0,ROW()-11," ")
J33: IMPORTE TOTAL EJERCIDO | K33: =SUM(K12:K32) -> 2900
C34: NOTA: | D34: Renombrar y enviar el archivo excel "SUII-___-___-2026-Formato de Viaticos 2026" al correo de comprobaciones@utcancun.edu.mx
K36: Renombrar con el numero de SUII, EJEMPLO: "SUII-REC-001-2026-Formato de Viaticos 2026"
F39: SANDRA GUADALUPE TUDÓN JIMENEZ SECRETARIA DE DEPARTAMENTO
